BEGIN:VCALENDAR
VERSION:2.0
PRODID:-//gzd-online//gzd-online.de//DE
CALSCALE:GREGORIAN
BEGIN:VEVENT
DTSTART:20260510T100000
DTEND:20260510T113000
LOCATION:42929 Wermelskirchen Auf der Huhfuhr 10
DTSTAMP:20260423T001944
SUMMARY:Gottesdienst am 10. Mai um 10:00 Uhr
URL;VALUE=URI:https://gzd-online.org/termine/gottesdienst-um-1000-uhr/
DESCRIPTION:
UID:20260423T001944-20260510T100000-20260510T113000
END:VEVENT
END:VCALENDAR