BEGIN:VCALENDAR
VERSION:2.0
PRODID:-//gzd-online//gzd-online.de//DE
CALSCALE:GREGORIAN
BEGIN:VEVENT
DTSTART:20261127T200000
DTEND:20261127T220000
LOCATION:42929 Wermelskirchen Auf der Huhfuhr 10
DTSTAMP:20260423T001944
SUMMARY:Anbetungsabend am 27. November um 20:00 Uhr
URL;VALUE=URI:https://gzd-online.org/termine/anbetungsabend-am-27-november-um-2000-uhr/
DESCRIPTION:
UID:20260423T001944-20261127T200000-20261127T220000
END:VEVENT
END:VCALENDAR